BEGIN:VCALENDAR
VERSION:2.0
PRODID:-//ChamberMaster//Event Calendar 2.0//EN
METHOD:PUBLISH
X-PUBLISHED-TTL:P3D
REFRESH-INTERVAL:P3D
CALSCALE:GREGORIAN
BEGIN:VEVENT
DTSTART:20131010T213000Z
DTEND:20131011T000000Z
X-MICROSOFT-CDO-ALLDAYEVENT:FALSE
SUMMARY:2013 October Dinner Meeting
DESCRIPTION:October Dinner Meeting
X-ALT-DESC;FMTTYPE=text/html:October Dinner Meeting&nbsp\;<br />\n&nbsp\;&nbsp\;&nbsp\;&nbsp\;
LOCATION:The Westin at Cape Coral 5951 Silver King Boulevard Cape Coral\, FL 33914
UID:e.9117.172
SEQUENCE:3
DTSTAMP:20260422T153417Z
URL:http://cccia-dev.memberzone.com/events/details/2013-october-dinner-meeting-10-10-2013-172
END:VEVENT

END:VCALENDAR
