BEGIN:VCALENDAR
VERSION:2.0
PRODID:-//ChamberMaster//Event Calendar 2.0//EN
METHOD:PUBLISH
X-PUBLISHED-TTL:P3D
REFRESH-INTERVAL:P3D
CALSCALE:GREGORIAN
BEGIN:VEVENT
DTSTART:20131213T233000Z
DTEND:20131214T043000Z
X-MICROSOFT-CDO-ALLDAYEVENT:FALSE
SUMMARY:2013 Holiday Awards & Installation Party
DESCRIPTION:2013 Awards of Commitment and Excellence Holiday Party and\n\nInstallation of Officers
X-ALT-DESC;FMTTYPE=text/html:2013 Awards of Commitment and Excellence Holiday Party and<br />\nInstallation of Officers
LOCATION:The Westin at Marina Village Hope Ballroom - 2nd Floor 5951 Silver King Boulevard Cape Coral\, FL 33914
UID:e.9117.174
SEQUENCE:3
DTSTAMP:20260422T123205Z
URL:http://cccia-dev.memberzone.com/events/details/2013-holiday-awards-installation-party-12-13-2013-174
END:VEVENT

END:VCALENDAR
